BEGIN:VCALENDAR
VERSION:2.0
PRODID:-//Louisiana Nursery - ECPv6.15.20//NONSGML v1.0//EN
CALSCALE:GREGORIAN
METHOD:PUBLISH
X-ORIGINAL-URL:https://louisiananursery.com
X-WR-CALDESC:Events for Louisiana Nursery
REFRESH-INTERVAL;VALUE=DURATION:PT1H
X-Robots-Tag:noindex
X-PUBLISHED-TTL:PT1H
BEGIN:VTIMEZONE
TZID:America/Chicago
BEGIN:DAYLIGHT
TZOFFSETFROM:-0600
TZOFFSETTO:-0500
TZNAME:CDT
DTSTART:20240310T080000
END:DAYLIGHT
BEGIN:STANDARD
TZOFFSETFROM:-0500
TZOFFSETTO:-0600
TZNAME:CST
DTSTART:20241103T070000
END:STANDARD
BEGIN:DAYLIGHT
TZOFFSETFROM:-0600
TZOFFSETTO:-0500
TZNAME:CDT
DTSTART:20250309T080000
END:DAYLIGHT
BEGIN:STANDARD
TZOFFSETFROM:-0500
TZOFFSETTO:-0600
TZNAME:CST
DTSTART:20251102T070000
END:STANDARD
BEGIN:DAYLIGHT
TZOFFSETFROM:-0600
TZOFFSETTO:-0500
TZNAME:CDT
DTSTART:20260308T080000
END:DAYLIGHT
BEGIN:STANDARD
TZOFFSETFROM:-0500
TZOFFSETTO:-0600
TZNAME:CST
DTSTART:20261101T070000
END:STANDARD
END:VTIMEZONE
BEGIN:VEVENT
DTSTART;TZID=America/Chicago:20250602T180000
DTEND;TZID=America/Chicago:20250602T190000
DTSTAMP:20260425T133331
CREATED:20250515T173414Z
LAST-MODIFIED:20250522T150332Z
UID:10000017-1748887200-1748890800@louisiananursery.com
SUMMARY:Bromeliad Society Workshop-6-2-2025
DESCRIPTION:Ready to get your hands dirty and create some living art? Join us for a special workshop hosted in collaboration with the Bromeliad Society of Baton Rouge! You’ll learn the art of mounting a beautiful bromeliad onto a unique piece of driftwood\, transforming simple materials into a stunning living display. Each attendee will receive their own bromeliad and driftwood to work with. Don’t miss this chance to explore the fascinating world of bromeliads and craft your own botanical masterpiece! \n\n\n\n\n\n\n\n\nTime: June 2th\, 6pm-7pm\nLocation: 8680 Perkins Rd.\, Baton Rouge\nCost: $60\nGuest Host: Bromeliad Society \nThis event is limited to 20 spots so as to give each attendee individual attention. Please reserve your seats by phone or in person at our Perkins Rd. store today. \nCall now to reserve your spot: 225-766-0300
URL:https://louisiananursery.com/event/bromeliad-society-workshop-6-2-2025/
LOCATION:Louisiana Nursery-Perkins\, 8680 Perkins Rd\, Baton Rouge\, LA\, 70810\, United States
CATEGORIES:Hands-on
ATTACH;FMTTYPE=image/jpeg:https://louisiananursery.com/wp-content/uploads/2024/04/Guzmania-red-bloom.jpg
END:VEVENT
END:VCALENDAR