BEGIN:VCALENDAR
VERSION:2.0
PRODID:-//Louisiana Nursery - ECPv6.15.20//NONSGML v1.0//EN
CALSCALE:GREGORIAN
METHOD:PUBLISH
X-WR-CALNAME:Louisiana Nursery
X-ORIGINAL-URL:https://louisiananursery.com
X-WR-CALDESC:Events for Louisiana Nursery
REFRESH-INTERVAL;VALUE=DURATION:PT1H
X-Robots-Tag:noindex
X-PUBLISHED-TTL:PT1H
BEGIN:VTIMEZONE
TZID:America/Chicago
BEGIN:DAYLIGHT
TZOFFSETFROM:-0600
TZOFFSETTO:-0500
TZNAME:CDT
DTSTART:20250309T080000
END:DAYLIGHT
BEGIN:STANDARD
TZOFFSETFROM:-0500
TZOFFSETTO:-0600
TZNAME:CST
DTSTART:20251102T070000
END:STANDARD
BEGIN:DAYLIGHT
TZOFFSETFROM:-0600
TZOFFSETTO:-0500
TZNAME:CDT
DTSTART:20260308T080000
END:DAYLIGHT
BEGIN:STANDARD
TZOFFSETFROM:-0500
TZOFFSETTO:-0600
TZNAME:CST
DTSTART:20261101T070000
END:STANDARD
BEGIN:DAYLIGHT
TZOFFSETFROM:-0600
TZOFFSETTO:-0500
TZNAME:CDT
DTSTART:20270314T080000
END:DAYLIGHT
BEGIN:STANDARD
TZOFFSETFROM:-0500
TZOFFSETTO:-0600
TZNAME:CST
DTSTART:20271107T070000
END:STANDARD
END:VTIMEZONE
BEGIN:VEVENT
DTSTART;TZID=America/Chicago:20260504T180000
DTEND;TZID=America/Chicago:20260504T190000
DTSTAMP:20260424T231911
CREATED:20260424T031431Z
LAST-MODIFIED:20260424T031431Z
UID:10000034-1777917600-1777921200@louisiananursery.com
SUMMARY:All About Orchids with the Orchid Society: In-Person Class
DESCRIPTION:Orchids are the most diverse family of flowers on earth\, but even experienced gardeners can find them intimidating. Their blooms are so intricate\, their roots are totally visible as they crawl out the pot…and the pot! How does this hold water? Or soil?? \nDon’t over-think it! Orchid care is just as easy as any other plant\, all you need is some guidance to get started. Our intro class will cover types of orchids\, selecting a healthy orchid\, orchid pots\, care\, and common issues with their treatments. All these tips and more will be presented by the experts from the Baton Rouge Orchid Society. \nTime: Monday\, May 4th\, 6pm-7pm\nLocation: 8680 Perkins Rd\, Baton Rouge \nKey Takeaways: \n\nCommon Types of Orchids: Know the biggest names in orchids at a glance. We’ll cover Cattleya\, Phalaenopsis\, & Vanda.\nChoosing Your Orchid: Identify the healthiest flower in the bunch by checking its leaves\, roots\, and crown\, and know where to look for hidden bugs or disease!\nOrchid Pots & Repotting: How Orchid pots work (are they necessary?)\, best soil mix\, when and when not to repot\, and do they like to be root-bound?\nOrchid Care Requirements: Water\, light\, and temperature requirements. Fertilizer suggestions and how to apply. When (and if) you should prune your orchids.\nTroubleshooting Common Issues: Identify and treat the most common pest and diseases afflicting orchids.\n\nDon’t miss this opportunity to learn valuable tips and tricks for the worlds most diverse flower!
URL:https://louisiananursery.com/event/orchid-society-class/
LOCATION:Louisiana Nursery-Perkins\, 8680 Perkins Rd\, Baton Rouge\, LA\, 70810\, United States
CATEGORIES:Seminar
ATTACH;FMTTYPE=image/jpeg:https://louisiananursery.com/wp-content/uploads/2024/02/Pink-Orchid-Flowers.jpg
END:VEVENT
BEGIN:VEVENT
DTSTART;TZID=America/Chicago:20260601T180000
DTEND;TZID=America/Chicago:20260601T190000
DTSTAMP:20260424T231911
CREATED:20260424T031731Z
LAST-MODIFIED:20260424T031731Z
UID:10000035-1780336800-1780340400@louisiananursery.com
SUMMARY:Plumeria & Staghorn Mounting Class
DESCRIPTION:Time: Monday\, June 1st\, 6pm-7pm\nLocation: 13121 Coursey Blvd\, Baton Rouge
URL:https://louisiananursery.com/event/plumeria-staghorn-mounting-class/
LOCATION:Coursey – Louisiana Nursery\, 13121 Coursey Blvd.\, Baton Rouge\, LA\, 70816\, United States
CATEGORIES:Seminar
END:VEVENT
END:VCALENDAR