BEGIN:VCALENDAR
VERSION:2.0
PRODID:-//Louisiana Nursery - ECPv6.15.20//NONSGML v1.0//EN
CALSCALE:GREGORIAN
METHOD:PUBLISH
X-ORIGINAL-URL:https://louisiananursery.com
X-WR-CALDESC:Events for Louisiana Nursery
REFRESH-INTERVAL;VALUE=DURATION:PT1H
X-Robots-Tag:noindex
X-PUBLISHED-TTL:PT1H
BEGIN:VTIMEZONE
TZID:America/Chicago
BEGIN:DAYLIGHT
TZOFFSETFROM:-0600
TZOFFSETTO:-0500
TZNAME:CDT
DTSTART:20240310T080000
END:DAYLIGHT
BEGIN:STANDARD
TZOFFSETFROM:-0500
TZOFFSETTO:-0600
TZNAME:CST
DTSTART:20241103T070000
END:STANDARD
BEGIN:DAYLIGHT
TZOFFSETFROM:-0600
TZOFFSETTO:-0500
TZNAME:CDT
DTSTART:20250309T080000
END:DAYLIGHT
BEGIN:STANDARD
TZOFFSETFROM:-0500
TZOFFSETTO:-0600
TZNAME:CST
DTSTART:20251102T070000
END:STANDARD
BEGIN:DAYLIGHT
TZOFFSETFROM:-0600
TZOFFSETTO:-0500
TZNAME:CDT
DTSTART:20260308T080000
END:DAYLIGHT
BEGIN:STANDARD
TZOFFSETFROM:-0500
TZOFFSETTO:-0600
TZNAME:CST
DTSTART:20261101T070000
END:STANDARD
END:VTIMEZONE
BEGIN:VEVENT
DTSTART;TZID=America/Chicago:20250407T180000
DTEND;TZID=America/Chicago:20250407T190000
DTSTAMP:20260425T163840
CREATED:20250320T182220Z
LAST-MODIFIED:20250324T165530Z
UID:10000015-1744048800-1744052400@louisiananursery.com
SUMMARY:Spring Wreath Workshop - April 7\, 2025 - Perkins Location
DESCRIPTION:Celebrate the start of spring with your very own handmade wreath! This limited seating workshop will be hosted at our Perkins Rd Store\, $75 entry fee. Get details below or call now to reserve your spot! \nKyla Leggett – Christmas Buyer\, Store Manager\, & Decor Queen – will be hosting a spring wreath-making workshop at the Perkins store! Each attendee will get three rolls of ribbon from our spring ribbon selection\, and will get detailed instruction on crafting their very own wreath. \nWe’re limiting this event to 20 spots ($75 each) so that everyone gets the extra attention this workshop deserves\, so call up a friend then call our Perkins Rd store to sign up!\nPerkins Rd Store phone number: (225) 766-0300 \nEvent Details \nWhen: 6pm-7pm\, Monday\, April 7th\nWhere: 8680 Perkins Rd\, Baton Rouge\, LA 70810\nLimited Spots: 20 spots available (spots not reserved until after payment)\nCost: $75\, pay by phone or in-person at the Perkins Rd store\nDoor Prize: You’ll know if you geaux!
URL:https://louisiananursery.com/event/spring-wreath-workshop-4-7-2025/
LOCATION:Louisiana Nursery-Perkins\, 8680 Perkins Rd\, Baton Rouge\, LA\, 70810\, United States
ATTACH;FMTTYPE=image/jpeg:https://louisiananursery.com/wp-content/uploads/2025/03/Wreath-Making-Class-Example.jpg
END:VEVENT
END:VCALENDAR