BEGIN:VCALENDAR
VERSION:2.0
PRODID:-//Louisiana Nursery - ECPv6.15.20//NONSGML v1.0//EN
CALSCALE:GREGORIAN
METHOD:PUBLISH
X-ORIGINAL-URL:https://louisiananursery.com
X-WR-CALDESC:Events for Louisiana Nursery
REFRESH-INTERVAL;VALUE=DURATION:PT1H
X-Robots-Tag:noindex
X-PUBLISHED-TTL:PT1H
BEGIN:VTIMEZONE
TZID:America/Chicago
BEGIN:DAYLIGHT
TZOFFSETFROM:-0600
TZOFFSETTO:-0500
TZNAME:CDT
DTSTART:20230312T080000
END:DAYLIGHT
BEGIN:STANDARD
TZOFFSETFROM:-0500
TZOFFSETTO:-0600
TZNAME:CST
DTSTART:20231105T070000
END:STANDARD
BEGIN:DAYLIGHT
TZOFFSETFROM:-0600
TZOFFSETTO:-0500
TZNAME:CDT
DTSTART:20240310T080000
END:DAYLIGHT
BEGIN:STANDARD
TZOFFSETFROM:-0500
TZOFFSETTO:-0600
TZNAME:CST
DTSTART:20241103T070000
END:STANDARD
BEGIN:DAYLIGHT
TZOFFSETFROM:-0600
TZOFFSETTO:-0500
TZNAME:CDT
DTSTART:20250309T080000
END:DAYLIGHT
BEGIN:STANDARD
TZOFFSETFROM:-0500
TZOFFSETTO:-0600
TZNAME:CST
DTSTART:20251102T070000
END:STANDARD
BEGIN:DAYLIGHT
TZOFFSETFROM:-0600
TZOFFSETTO:-0500
TZNAME:CDT
DTSTART:20260308T080000
END:DAYLIGHT
BEGIN:STANDARD
TZOFFSETFROM:-0500
TZOFFSETTO:-0600
TZNAME:CST
DTSTART:20261101T070000
END:STANDARD
BEGIN:DAYLIGHT
TZOFFSETFROM:-0600
TZOFFSETTO:-0500
TZNAME:CDT
DTSTART:20270314T080000
END:DAYLIGHT
BEGIN:STANDARD
TZOFFSETFROM:-0500
TZOFFSETTO:-0600
TZNAME:CST
DTSTART:20271107T070000
END:STANDARD
END:VTIMEZONE
BEGIN:VEVENT
DTSTART;TZID=America/Chicago:20260424T180000
DTEND;TZID=America/Chicago:20260424T190000
DTSTAMP:20260424T215441
CREATED:20260415T142606Z
LAST-MODIFIED:20260415T143450Z
UID:10000032-1777053600-1777057200@louisiananursery.com
SUMMARY:Roses 101: Learn Rose Types & Essential Tips for Growing (Hwy 42\, Prairieville)
DESCRIPTION:When: Friday\, April 24th\, 6pmWhere: 39245 LA-42\, Prairieville (Louisiana Nursery)What: Free Seminar on Roses from our In-House Expert! \n\nJoin Louisiana Nursery for a deep dive into our favorite cut flower category: Roses! \n\nWith nearly 100 unique varieties to choose from\, we understand some gardeners are overwhelmed when trying to find the perfect selection for their landscape. And once they pull the trigger\, how do they go about maintaining these beautiful specimens? \n\nThis rose seminar aims to answer all those questions and then some\, giving you a deep understanding of the different categories\, as well as easy-to-follow maintenance routines for years to come. \n\nThe seminar will be presented by Austin Heltzel\, Louisiana Nursery’s Head of Roses and a lifelong enthusiast of landscape design. \n\nBeyond defining the different types of roses\, including: \n\n– Climbing– Fragrant– Hybrid Tea– Grandiflora– Floribunda– English Rose \n\n…. Austin will also be announcing his stand-out favorites within each type! If you’re an indecisive plant person\, this is the perfect way to Get Growin’ with some expert direction! \n\nThis seminar is a series that will take place at all 3 locations starting on the week of April 20th. The schedule is as follows: \n\n– 13121 Coursey Blvd\, Baton RougeMonday\, April 20th\, 6pm \n\n– 8680 Perkins Rd\, Baton RougeWednesday\, April 22nd\, 6pm \n\n– 39245 LA-42\, PrairievilleFriday\, April 24th\, 6pm \n\nHelp us gauge attendance by checking in on Facebook \n\nEntry is free\, no purchase necessary\, bring a friend and join the gardening community to talk all about roses!
URL:https://louisiananursery.com/event/roses-101-prairieville/
LOCATION:Events Venue – Prairieville\, 39245 LA-42\, Prairieville\, LA\, 70769\, United States
CATEGORIES:Seminar
ATTACH;FMTTYPE=image/png:https://louisiananursery.com/wp-content/uploads/2026/04/Roses-101-Seminar-Series-1.png
END:VEVENT
BEGIN:VEVENT
DTSTART;TZID=America/Chicago:20251120T170000
DTEND;TZID=America/Chicago:20251120T200000
DTSTAMP:20260424T215441
CREATED:20251007T220435Z
LAST-MODIFIED:20251007T220435Z
UID:10000026-1763658000-1763668800@louisiananursery.com
SUMMARY:Ladies Nite Out 2025 (Prairieville)
DESCRIPTION:LADIES NITE OUT!!!!\nLadies Nite Out 2025 is here\, y’all! Bring the friends\, family\, and everyone in-between to our biggest event of the year. We use these nights as a kickoff to the Holiday season\, with all the hottest trends from Thanksgiving – Christmas heavily featured with select discounts & deals. You’ll get free\, freshly prepared food\, drinks\, live music\, and the largest number / variety of local vendors we’ve ever had before!! Think handcrafted soaps\, jewelry\, art pieces\, foods\, spices\, and so much more. Tons of other vendors will be showcasing their amazing services as well. Whether you’re shopping for gifts or to get a head-start on the decorating trends\, you won’t want to miss Ladies Nite Out 2025 at Louisiana Nursery! \n(We will be creating 3 separate ‘events’ to promote Ladies Nite Out. This event is for night 3 of 3\, Thursday\, November 20th\, 5pm-8pm\, at 39245 LA-42\, Prairieville) \nThis works great\, as we’ve gotten so many vendors this year that we needed to spread the love across multiple nights & locations. Try to visit multiple / all three to see everything they have to offer!! \nSEE ALL EVENTS ON OUR EVENTS PAGE
URL:https://louisiananursery.com/event/ladies-nite-out-2025-prairieville/
LOCATION:Events Venue – Prairieville\, 39245 LA-42\, Prairieville\, LA\, 70769\, United States
END:VEVENT
BEGIN:VEVENT
DTSTART;TZID=America/Chicago:20250901T180000
DTEND;TZID=America/Chicago:20250901T190000
DTSTAMP:20260424T215441
CREATED:20250723T214642Z
LAST-MODIFIED:20250827T190329Z
UID:10000020-1756749600-1756753200@louisiananursery.com
SUMMARY:Bonsai Tree Workshop
DESCRIPTION:Bonsai isn’t just about trees; it’s about cultivating mindfulness\, patience\, and a deeper appreciation for the natural world.  \nLouisiana Bonsai Society and Louisiana Nursery host another Bonsai Tree Workshop! Pot up & take home your very own tree and start the bonsai journey. \nLimited to 20 paid spots ($75/spot)\, attendees will get the introduction to bonsai tree care directly from the experts. Payment covers the cost of your bonsai tree (Ficus 89\, a stronger variety of willow leaf Ficus)\, pot\, and soil medium\, as well as help potting it all together. Plus\, one lucky attendee will get an additional bonsai care kit as a door prize! \nAbout the Event: \nWhen: Monday\, September 1st\, 6:00pm\nWhere: 39245 LA-42\, Prairieville\, LA 70769\nGuest Speaker: Joel Jenkins\nCost: $75 (20 spots available) \nHow to reserve your spots / payment:\nOur Prairieville staff will be selling spots in-store and over the phone\, limited to 20 and first-come first-serve.\n***Payment is the only way to reserve your spot.*** \nCall the Prairieville location and reserve your spots by clicking the phone number below \n(225) 677-7984 \nThank you again to the wonderful members of the Louisiana Bonsai Society. \nThey’ve been a pleasure to work with\, and are so excited to share their love of the art of bonsai with our gardening community! \n 
URL:https://louisiananursery.com/event/bonsai-tree-workshop/
LOCATION:Events Venue – Prairieville\, 39245 LA-42\, Prairieville\, LA\, 70769\, United States
CATEGORIES:Hands-on
ATTACH;FMTTYPE=image/png:https://louisiananursery.com/wp-content/uploads/2025/04/Bonsai-Tree-Workshop.png
END:VEVENT
BEGIN:VEVENT
DTSTART;TZID=America/Chicago:20241121T170000
DTEND;TZID=America/Chicago:20241121T200000
DTSTAMP:20260424T215441
CREATED:20241028T160653Z
LAST-MODIFIED:20241101T140637Z
UID:10000013-1732208400-1732219200@louisiananursery.com
SUMMARY:Ladies Nite Out 2024 (Prairieville)
DESCRIPTION:15th Annual LADIES NITE OUT!!!!\nLadies Nite Out 2024 is here\, y’all! Bring the friends\, family\, and everyone in-between to our biggest event of the year. We use these nights as a kickoff to the Holiday season\, with all the hottest trends from Thanksgiving – Christmas heavily featured with select discounts & deals. You’ll get free\, freshly prepared food\, drinks\, live music\, and the largest number / variety of local vendors we’ve ever had before!! Think handcrafted soaps\, jewelry\, art pieces\, foods\, spices\, and so much more. Tons of other vendors will be showcasing their amazing services as well. Whether you’re shopping for gifts or to get a head-start on the decorating trends\, you won’t want to miss Ladies Nite Out 2024 at Louisiana Nursery! \n(We will be creating 3 separate ‘events’ to promote Ladies Nite Out. This event is for night 3 of 3\, Thursday\, November 21st\, 5pm-8pm\, at 39245 LA-42\, Prairieville) \nThis works great\, as we’ve gotten so many vendors this year that we needed to spread the love across multiple nights & locations. Try to visit multiple / all three to see everything they have to offer!! \nSEE ALL EVENTS ON OUR EVENTS PAGE
URL:https://louisiananursery.com/event/ladies-nite-out-2024-prairieville/
LOCATION:Events Venue – Prairieville\, 39245 LA-42\, Prairieville\, LA\, 70769\, United States
ATTACH;FMTTYPE=image/jpeg:https://louisiananursery.com/wp-content/uploads/2024/10/Ladies-Nite-Out-2024-1.jpg
END:VEVENT
BEGIN:VEVENT
DTSTART;TZID=America/Chicago:20240521T180000
DTEND;TZID=America/Chicago:20240521T190000
DTSTAMP:20260424T215441
CREATED:20240412T012659Z
LAST-MODIFIED:20240412T012659Z
UID:10000006-1716314400-1716318000@louisiananursery.com
SUMMARY:Perennials and Companion Planting - Peggy Martin
DESCRIPTION:The Plants That Just Keep Giving: Perennials and More \nJoin Louisiana Nursery & Peggy Martin to discuss the world of Perennials\, plants that bloom year after year! While annuals aren’t going anywhere\, perennials can offer show-stopping color without needing to be replaced year after year. \nGuest Speaker: Peggy Martin \nAbout the Event: \nAll about perennials that thrive in the Louisiana landscape. Will also cover gardening tactics that work best with perennial gardens like best companion plants. \nDon’t miss this opportunity to learn from the namesake of the Peggy Martin Rose\, Peggy Martin herself! \n \n\n\n                \n                        \n                            Event Sign-Up - Peggy Martin Talks Perennials\n                            Event Sign-Up Form for "Peggy Martin Talks Perennials" Event \n                        					\n						Δ\n						\n						\n\n					\n                        Name(Required)\n                            \n                            \n                                                    First\n                                                    \n                                                \n                            \n                            \n                                                            Last\n                                                            \n                                                        \n                            \n                        Email(Required)\n                            \n                        Phone(Required)How did you hear about this event?NewsletterSocial MediaGoogleWord of MouthRefer a FriendPast ParticipantNumber of tickets?Contact DetailsWe collect contact information purely for event reminders and raffle entries (if applicable). Louisiana Nursery will never share or sell your contact information to anyone\, and will never utilize contact information for marketing without your express permission.
URL:https://louisiananursery.com/event/perennials-and-companion-planting-peggy-martin/
LOCATION:Events Venue – Prairieville\, 39245 LA-42\, Prairieville\, LA\, 70769\, United States
ATTACH;FMTTYPE=image/jpeg:https://louisiananursery.com/wp-content/uploads/2023/08/Shade-Garden1.jpg
END:VEVENT
BEGIN:VEVENT
DTSTART;TZID=America/Chicago:20240402T180000
DTEND;TZID=America/Chicago:20240402T190000
DTSTAMP:20260424T215441
CREATED:20240220T030038Z
LAST-MODIFIED:20240326T152301Z
UID:10000003-1712080800-1712084400@louisiananursery.com
SUMMARY:Butterflies & Pollinator Gardens with Isabelle Morgan
DESCRIPTION:Turn Your Garden into a Pollinator-Haven \nJoin LA Nursery for a deep-dive on the world of pollinators\, their purpose in our ecosystems\, and the best plants to attract them to your backyard available at our garden center! \nGuest Speaker: Isabelle Morgan \nIsabelle (Isa) Morgan is the Insectarium Horticulturist at Audubon Nature Institute in New Orleans\, Louisiana. In her day-to-day\, she maintains the Audubon Butterfly Garden and educates the public on the importance of pollinators and native biodiversity.\nIsa is a 2023 graduate of LSU’s Plant and Soil Systems degree program with a minor in Entomology\, and has future plans to pursue a masters degree in Human-Plant Interactions. Her main interests include sustainable agriculture\, education\, and horticulture therapy. \nAbout the Event:\nLearn what it means to plan and plant a garden with the “pollinator-first” mindset. This includes using more native plants\, practicing “companion planting\,” and learning how we\, as gardeners\, can help our pollinators thrive in a multitude of ways. \nKey Takeaways: \n\nWhat is Pollination: The bedrock of everything we do at the garden center is thanks to the miracle of pollinators and how they have co-evolved with plants. Knowing the “how” is key to understanding why we plant certain things for certain insects.\nPollinator-Friendly Plant-Care: Thinking with the “pollinator-first” mindset means adjusting the chemical programs you’ve used in the past\, or even adjusting your expectations of what a healthy garden looks like. This doesn’t mean cutting it all out\, though! Organic certified products have made real strides over the years\, and we’ll take a look at what can safely be applied to a pollinator haven!\nButterfly Gardens: Monarchs tend to get all the attention\, but there’s many other beautiful butterflies in Louisiana! Butterfly gardens are an especially popular subject with our garden club community\, so we’ll have a section dedicated to attracting all kinds of them.\nQ&A: Have your questions answered by our expert guest speaker and garden center staff.\n\nWho Should Attend:  \n\nButterfly enthusiasts and bug-lovers everywhere!\nHomeowners looking to add some extra life to their lawns.\nAny gardener wanting a better idea of how the plant & insect kingdoms come together.\n\nDon’t miss this opportunity to learn valuable tips and tricks for creating a thriving butterfly garden with the “pollinator-first” mindset! \n\n                \n                        \n                            Event Sign-Up - Butterfly & Pollinator Gardens\n                             \n                        					\n						Δ\n						\n						\n\n					\n                        Name(Required)\n                            \n                            \n                                                    First\n                                                    \n                                                \n                            \n                            \n                                                            Last\n                                                            \n                                                        \n                            \n                        Email(Required)\n                            \n                        Phone(Required)How did you hear about this event?Social MediaGoogleWord of MouthRefer a FriendPast ParticipantOtherNumber of tickets?Contact DetailsWe collect contact information purely for event reminders and raffle entries (if applicable). Louisiana Nursery will never share or sell your contact information to anyone\, and will never utilize contact information for marketing without your express permission.
URL:https://louisiananursery.com/event/butterflies-pollinator-gardens-isabelle-morgan/
LOCATION:Events Venue – Prairieville\, 39245 LA-42\, Prairieville\, LA\, 70769\, United States
CATEGORIES:Seminar
ATTACH;FMTTYPE=image/jpeg:https://louisiananursery.com/wp-content/uploads/2024/02/Butterfly-Garden-2.jpg
END:VEVENT
END:VCALENDAR